BEGIN:VCALENDAR
VERSION:2.0
PRODID:-//Anglican Diocese Of Tema - ECPv6.15.11//NONSGML v1.0//EN
CALSCALE:GREGORIAN
METHOD:PUBLISH
X-WR-CALNAME:Anglican Diocese Of Tema
X-ORIGINAL-URL:https://adotgh.com
X-WR-CALDESC:Events for Anglican Diocese Of Tema
REFRESH-INTERVAL;VALUE=DURATION:PT1H
X-Robots-Tag:noindex
X-PUBLISHED-TTL:PT1H
BEGIN:VTIMEZONE
TZID:Africa/Accra
BEGIN:STANDARD
TZOFFSETFROM:+0000
TZOFFSETTO:+0000
TZNAME:GMT
DTSTART:20230101T000000
END:STANDARD
END:VTIMEZONE
BEGIN:VEVENT
DTSTART;TZID=Africa/Accra:20240825T150000
DTEND;TZID=Africa/Accra:20240825T150000
DTSTAMP:20260420T175811
CREATED:20240731T111233Z
LAST-MODIFIED:20240731T111438Z
UID:12970-1724598000-1724598000@adotgh.com
SUMMARY:Special Invitation: Canon Installation & Fund-Raising for St. Mark Anglican Church
DESCRIPTION:“So they earnestly begged Jesus to help the man. “If anyone deserves your help\, he does\,” they said\, “for he loves the Jewish (Christian) people and even built a synagogue (Church) for us\,”” Luke: 7:4-5 (NLT) \nWe are excited to announce a new chapter in our church’s journey as we embark on a mission to build a new church building. This new space will serve as a sanctuary for worship\, a center for community gatherings\, and a beacon of hope for all who seek spiritual growth and fellowship. \n \nWe invite you to join us in this meaningful endeavor. Your generous support will help us create a welcoming and inspiring environment where faith can flourish and lives can be transformed.\nEvery contribution\, no matter the size\, brings us closer to making this vision a reality. Together\, we can build a place where our community can come together\, grow in faith\, and support one another. \n 
URL:https://adotgh.com/event/special-invitation-canon-installation-fund-raising-for-st-mark-anglican-church/
LOCATION:SS Alban & Matthew Cathederal\, Community 1\, Tema\, GAR\, Ghana
CATEGORIES:Fund-Raising
ATTACH;FMTTYPE=image/jpeg:https://adotgh.com/wp-content/uploads/2024/07/invitation.jpg
END:VEVENT
BEGIN:VEVENT
DTSTART;TZID=Africa/Accra:20240707T080000
DTEND;TZID=Africa/Accra:20240707T170000
DTSTAMP:20260420T175811
CREATED:20240704T094847Z
LAST-MODIFIED:20240704T155540Z
UID:12828-1720339200-1720371600@adotgh.com
SUMMARY:Launching of youth month celebration 2024 "WEAR YOUR ROOT"
DESCRIPTION:Come witness the launching of youth month celebration 2024 “WEAR YOUR ROOT” at the Paraclete Parish at Sakumono\, Tema. \n 
URL:https://adotgh.com/event/launching-of-youth-month-celebration-2024-wear-your-root/
LOCATION:Holy Paraclete Parish\, Sakumono Tema
ATTACH;FMTTYPE=image/jpeg:https://adotgh.com/wp-content/uploads/2024/07/wear-your-root.jpg
END:VEVENT
BEGIN:VEVENT
DTSTART;TZID=Africa/Accra:20240706T150000
DTEND;TZID=Africa/Accra:20240706T170000
DTSTAMP:20260420T175811
CREATED:20240704T165704Z
LAST-MODIFIED:20240704T165704Z
UID:12846-1720278000-1720285200@adotgh.com
SUMMARY:Let's Talk Health: Talk on Kidney and Hypertensive diseases
DESCRIPTION:– Learn about the link between hypertension and kidney diseases\n– Discover how to manage and prevent these conditions\n– Join us for an informative talk on hypertensive and kidney related diseases\n– Gain insights into maintaining kidney health while managing high blood pressure\n– Mark your calendars for this essential discussion!\n– Approximately 1.28 billion adults worldwide had hypertension in 2023.\n– Lifestyle choices can impact your risk of developing hypertension.\n– Hypertension is often referred to as a silent killer.\n– Misuse of certain medications can increase the risk of kidney disease.\n– Ghana has an estimated 15\,400 patients needing dialysis\, with only about 1\,195 receiving adequate care.
URL:https://adotgh.com/event/lets-talk-health-talk-on-kidney-and-hypertensive-diseases/
LOCATION:Christ The King Anglican Church\, Sakumono
ATTACH;FMTTYPE=image/jpeg:https://adotgh.com/wp-content/uploads/2024/07/lets-talk-health.jpg
END:VEVENT
END:VCALENDAR